BEGIN:VCALENDAR
VERSION:2.0
PRODID:SchoolNow
CALSCALE:GREGORIAN
BEGIN:VEVENT
UID:bfc7cfca-431c-11f0-ab72-02e9b157aabd
DTSTAMP:20260422T053007Z
SUMMARY:Minimum Day-School Hours 8:00-12:30
URL;VALUE=URI:https://www.lahabraschools.org/elcerrito/calendar/8262993/min
 imum-day-school-hours-8-00-12-30
DTSTART;VALUE=DATE:20260508
DTEND;VALUE=DATE:20260509
END:VEVENT
END:VCALENDAR
