BEGIN:VCALENDAR
VERSION:2.0
PRODID:SchoolNow
CALSCALE:GREGORIAN
BEGIN:VEVENT
UID:bfc7d0a6-431c-11f0-ac4b-02e9b157aabd
DTSTAMP:20260420T105507Z
SUMMARY:Memorial Day-No School
URL;VALUE=URI:https://www.lahabraschools.org/elcerrito/calendar/8262994/mem
 orial-day-no-school
DTSTART;VALUE=DATE:20260525
DTEND;VALUE=DATE:20260526
END:VEVENT
END:VCALENDAR
