BEGIN:VCALENDAR
VERSION:2.0
PRODID:SchoolNow
CALSCALE:GREGORIAN
BEGIN:VEVENT
UID:bfc7d182-431c-11f0-9af3-02e9b157aabd
DTSTAMP:20260420T105507Z
SUMMARY:Last Day of School
URL;VALUE=URI:https://www.lahabraschools.org/elcerrito/calendar/8262995/las
 t-day-of-school
DTSTART;VALUE=DATE:20260528
DTEND;VALUE=DATE:20260529
END:VEVENT
END:VCALENDAR
