BEGIN:VCALENDAR
VERSION:2.0
PRODID:SchoolNow
CALSCALE:GREGORIAN
BEGIN:VEVENT
UID:bfc7d268-431c-11f0-adbf-02e9b157aabd
DTSTAMP:20260420T105507Z
SUMMARY:Field Day
URL;VALUE=URI:https://www.lahabraschools.org/elcerrito/calendar/8262996/fie
 ld-day
DTSTART:20260528T153000Z
DTEND:20260528T170000Z
END:VEVENT
END:VCALENDAR
