BEGIN:VCALENDAR
VERSION:2.0
PRODID:SchoolNow
CALSCALE:GREGORIAN
BEGIN:VEVENT
UID:a05b8f1c-4580-11f0-b6d7-0a58a9feac02
DTSTAMP:20260420T105507Z
SUMMARY:PTA Meeting @ Cafeteria
URL;VALUE=URI:https://www.lahabraschools.org/elcerrito/calendar/8276665/pta
 -meeting-cafeteria
DTSTART:20260113T030000Z
DTEND:20260113T040000Z
END:VEVENT
END:VCALENDAR
