BEGIN:VCALENDAR
VERSION:2.0
PRODID:SchoolNow
CALSCALE:GREGORIAN
BEGIN:VEVENT
UID:a05b900c-4580-11f0-9328-0a58a9feac02
DTSTAMP:20260422T053007Z
SUMMARY:PTA Meeting @ Cafeteria
URL;VALUE=URI:https://www.lahabraschools.org/elcerrito/calendar/8276666/pta
 -meeting-cafeteria
DTSTART:20260310T020000Z
DTEND:20260310T030000Z
END:VEVENT
END:VCALENDAR
