BEGIN:VCALENDAR
VERSION:2.0
PRODID:SchoolNow
CALSCALE:GREGORIAN
BEGIN:VEVENT
UID:a05b90f2-4580-11f0-aa28-0a58a9feac02
DTSTAMP:20260422T053007Z
SUMMARY:Read Across America Week
URL;VALUE=URI:https://www.lahabraschools.org/elcerrito/calendar/8276667/rea
 d-across-america-week
DTSTART;VALUE=DATE:20260302
DTEND;VALUE=DATE:20260307
END:VEVENT
END:VCALENDAR
