BEGIN:VCALENDAR
VERSION:2.0
PRODID:SchoolNow
CALSCALE:GREGORIAN
BEGIN:VEVENT
UID:a05b91ce-4580-11f0-942f-0a58a9feac02
DTSTAMP:20260420T105507Z
SUMMARY:PTA Meeting @ Cafeteria
URL;VALUE=URI:https://www.lahabraschools.org/elcerrito/calendar/8276668/pta
 -meeting-cafeteria
DTSTART:20260414T020000Z
DTEND:20260414T030000Z
END:VEVENT
END:VCALENDAR
