BEGIN:VCALENDAR
VERSION:2.0
PRODID:SchoolNow
CALSCALE:GREGORIAN
BEGIN:VEVENT
UID:a05b9390-4580-11f0-9687-0a58a9feac02
DTSTAMP:20260420T105507Z
SUMMARY:Stoves on Strike: Raising Canes
URL;VALUE=URI:https://www.lahabraschools.org/elcerrito/calendar/8276670/sto
 ves-on-strike-raising-canes
DTSTART:20260211T190000Z
DTEND:20260212T050000Z
END:VEVENT
END:VCALENDAR
