BEGIN:VCALENDAR
VERSION:2.0
PRODID:SchoolNow
CALSCALE:GREGORIAN
BEGIN:VEVENT
UID:81064bfe-4817-11f0-80fc-0a58a9feac02
DTSTAMP:20260421T051119Z
SUMMARY:Board Meeting
LOCATION:District Office-1-Curriculum Center (120)\, District Office-1-Boar
 d Room (120)
URL;VALUE=URI:https://www.lahabraschools.org/elcerrito/calendar/8295370/boa
 rd-meeting
DTSTART:20270212T020000Z
DTEND:20270212T030000Z
END:VEVENT
END:VCALENDAR
