BEGIN:VCALENDAR
VERSION:2.0
PRODID:SchoolNow
CALSCALE:GREGORIAN
BEGIN:VEVENT
UID:361356d6-7581-11f0-89b5-0ec299c833c9
DTSTAMP:20260421T051119Z
SUMMARY:Board Meeting
LOCATION:District Office-1-Curriculum Center (120)\, District Office-1-Boar
 d Room (120)
URL;VALUE=URI:https://www.lahabraschools.org/elcerrito/calendar/8486193/boa
 rd-meeting
DTSTART:20270409T010000Z
DTEND:20270409T020000Z
END:VEVENT
END:VCALENDAR
