BEGIN:VCALENDAR
VERSION:2.0
PRODID:SchoolNow
CALSCALE:GREGORIAN
BEGIN:VEVENT
UID:0ff6a394-91fc-11f0-90cf-0a58a9feac02
DTSTAMP:20260421T051119Z
SUMMARY:Board Meeting
LOCATION:District Office-1-Curriculum Center (120)\, District Office-1-Boar
 d Room (120)
URL;VALUE=URI:https://www.lahabraschools.org/elcerrito/calendar/8622925/boa
 rd-meeting
DTSTART:20270514T010000Z
DTEND:20270514T020000Z
END:VEVENT
END:VCALENDAR
