BEGIN:VCALENDAR
VERSION:2.0
PRODID:SchoolNow
CALSCALE:GREGORIAN
BEGIN:VEVENT
UID:bf29d374-abe0-11f0-bf8d-0e1bc265dc5b
DTSTAMP:20260421T111507Z
SUMMARY:Board Meeting
LOCATION:District Office-1-Curriculum Center (120)\, District Office-1-Boar
 d Room (120)
URL;VALUE=URI:https://www.lahabraschools.org/elcerrito/calendar/8730991/boa
 rd-meeting
DTSTART:20270611T010000Z
DTEND:20270611T020000Z
END:VEVENT
END:VCALENDAR
