BEGIN:VCALENDAR
VERSION:2.0
PRODID:SchoolNow
CALSCALE:GREGORIAN
BEGIN:VEVENT
UID:c9101fd2-ae2a-11f0-a296-0a58a9feac02
DTSTAMP:20260420T105507Z
SUMMARY:Attendance Recovery Saturday School @ Walnut
URL;VALUE=URI:https://www.lahabraschools.org/elcerrito/calendar/8737213/att
 endance-recovery-saturday-school-walnut
DTSTART:20260307T160000Z
DTEND:20260308T003000Z
END:VEVENT
END:VCALENDAR
