BEGIN:VCALENDAR
VERSION:2.0
PRODID:SchoolNow
CALSCALE:GREGORIAN
BEGIN:VEVENT
UID:12cc167c-bd1b-11f0-b803-0a58a9feac02
DTSTAMP:20260421T111507Z
SUMMARY:Board Meeting
LOCATION:District Office-1-Curriculum Center (120)\, District Office-1-Boar
 d Room (120)
URL;VALUE=URI:https://www.lahabraschools.org/elcerrito/calendar/8785563/boa
 rd-meeting
DTSTART:20270709T010000Z
DTEND:20270709T020000Z
END:VEVENT
END:VCALENDAR
