BEGIN:VCALENDAR
VERSION:2.0
PRODID:SchoolNow
CALSCALE:GREGORIAN
BEGIN:VEVENT
UID:c0360b96-c37a-11f0-a37c-0a58a9feac02
DTSTAMP:20260420T105507Z
SUMMARY:Open House Epic Build Showcase
URL;VALUE=URI:https://www.lahabraschools.org/elcerrito/calendar/8799196/ope
 n-house-epic-build-showcase
DTSTART:20260312T003000Z
DTEND:20260312T020000Z
END:VEVENT
END:VCALENDAR
