BEGIN:VCALENDAR
VERSION:2.0
PRODID:SchoolNow
CALSCALE:GREGORIAN
BEGIN:VEVENT
UID:131ae8e4-edcf-11f0-8cb5-0a58a9feac02
DTSTAMP:20260421T111507Z
SUMMARY:Board Meeting
LOCATION:District Office-1-Curriculum Center (120)\, District Office-1-Boar
 d Room (120)
URL;VALUE=URI:https://www.lahabraschools.org/elcerrito/calendar/8833990/boa
 rd-meeting
DTSTART:20270910T010000Z
DTEND:20270910T020000Z
END:VEVENT
END:VCALENDAR
