BEGIN:VCALENDAR
VERSION:2.0
PRODID:SchoolNow
CALSCALE:GREGORIAN
BEGIN:VEVENT
UID:dee9f182-f1ca-11f0-bbb6-0a58a9feac02
DTSTAMP:20260420T105507Z
SUMMARY:Washington MS Food Distribution
URL;VALUE=URI:https://www.lahabraschools.org/elcerrito/calendar/8836559/was
 hington-ms-food-distribution
DTSTART:20260128T183000Z
DTEND:20260128T193000Z
END:VEVENT
END:VCALENDAR
