BEGIN:VCALENDAR
VERSION:2.0
PRODID:SchoolNow
CALSCALE:GREGORIAN
BEGIN:VEVENT
UID:bfbde240-fa27-11f0-8b4f-0a58a9feac02
DTSTAMP:20260420T105507Z
SUMMARY:Coffee with Mrs. Putnam  Scheduled: Feb 24\, 2026 at 9:00 AM to 1
 0:00 AM\, PST
URL;VALUE=URI:https://www.lahabraschools.org/elcerrito/calendar/8840537/cof
 fee-with-mrs-putnam-scheduled-feb-24-2026-at-9-00-am-to-10-00-am-pst
DTSTART:20260224T170000Z
DTEND:20260224T180000Z
END:VEVENT
END:VCALENDAR
