BEGIN:VCALENDAR
VERSION:2.0
PRODID:SchoolNow
CALSCALE:GREGORIAN
BEGIN:VEVENT
UID:8b742fdc-0a15-11f1-b5d8-0a58a9feac02
DTSTAMP:20260421T172009Z
SUMMARY:Board Meeting
LOCATION:District Office-1-Curriculum Center (120)\, District Office-1-Boar
 d Room (120)
URL;VALUE=URI:https://www.lahabraschools.org/elcerrito/calendar/8856198/boa
 rd-meeting
DTSTART:20271015T010000Z
DTEND:20271015T020000Z
END:VEVENT
END:VCALENDAR
