BEGIN:VCALENDAR
VERSION:2.0
PRODID:SchoolNow
CALSCALE:GREGORIAN
BEGIN:VEVENT
UID:1218655c-1372-11f1-9383-0a58a9feac02
DTSTAMP:20260420T105507Z
SUMMARY:Epic Build Showcase
URL;VALUE=URI:https://www.lahabraschools.org/elcerrito/calendar/8874458/epi
 c-build-showcase
DTSTART:20260515T160000Z
DTEND:20260515T170000Z
END:VEVENT
END:VCALENDAR
