BEGIN:VCALENDAR
VERSION:2.0
PRODID:SchoolNow
CALSCALE:GREGORIAN
BEGIN:VEVENT
UID:35c1a48c-16a1-11f1-b5ef-0a58a9feac02
DTSTAMP:20260420T105507Z
SUMMARY:El Cerrito Tile Night- $25 per tile
URL;VALUE=URI:https://www.lahabraschools.org/elcerrito/calendar/8885787/el-
 cerrito-tile-night-25-per-tile
DTSTART:20260325T003000Z
DTEND:20260325T013000Z
END:VEVENT
END:VCALENDAR
