BEGIN:VCALENDAR
VERSION:2.0
PRODID:SchoolNow
CALSCALE:GREGORIAN
BEGIN:VEVENT
UID:d50d539c-1c32-11f1-ab01-0a58a9feac02
DTSTAMP:20260420T105507Z
SUMMARY:El Cerrito Fun Run(Gr4-6)
URL;VALUE=URI:https://www.lahabraschools.org/elcerrito/calendar/8905901/el-
 cerrito-fun-run-gr4-6
DTSTART:20260417T151500Z
DTEND:20260417T160000Z
END:VEVENT
END:VCALENDAR
