BEGIN:VCALENDAR
VERSION:2.0
PRODID:SchoolNow
CALSCALE:GREGORIAN
BEGIN:VEVENT
UID:d50d757a-1c32-11f1-93c3-0a58a9feac02
DTSTAMP:20260420T105507Z
SUMMARY:El Cerrito Fun Run(Gr TK-3)
URL;VALUE=URI:https://www.lahabraschools.org/elcerrito/calendar/8905902/el-
 cerrito-fun-run-gr-tk-3
DTSTART:20260417T161500Z
DTEND:20260417T170000Z
END:VEVENT
END:VCALENDAR
