BEGIN:VCALENDAR
VERSION:2.0
PRODID:SchoolNow
CALSCALE:GREGORIAN
BEGIN:VEVENT
UID:7edc2ae8-34b0-11f1-b1d8-0a58a9feac02
DTSTAMP:20260421T172009Z
SUMMARY:Board Meeting
LOCATION:District Office-1-Curriculum Center (120)\, District Office-1-Boar
 d Room (120)
URL;VALUE=URI:https://www.lahabraschools.org/elcerrito/calendar/8983654/boa
 rd-meeting
DTSTART:20271210T020000Z
DTEND:20271210T030000Z
END:VEVENT
END:VCALENDAR
