BEGIN:VCALENDAR
VERSION:2.0
PRODID:SchoolNow
CALSCALE:GREGORIAN
BEGIN:VEVENT
UID:f2df6054-cb11-11ea-9b5f-122882abe5c1
DTSTAMP:20200721T052053Z
SUMMARY:Reopening of Schools Virtual Town Hall Meeting
URL;VALUE=URI:https://www.lahabraschools.org/imperial/calendar/2287854/reop
 ening-of-schools-virtual-town-hall-meeting-clone
DTSTART:20200724T000000Z
DTEND:20200724T010000Z
END:VEVENT
END:VCALENDAR
