BEGIN:VCALENDAR
VERSION:2.0
PRODID:SchoolNow
CALSCALE:GREGORIAN
BEGIN:VEVENT
UID:0a70530c-b96d-11ee-a61a-0a58a9feac02
DTSTAMP:20240122T212754Z
SUMMARY:Literacy & Enrollment Fair
LOCATION:Las Lomas Elementary
URL;VALUE=URI:https://www.lahabraschools.org/imperial/calendar/5195093/lite
 racy-enrollment-fair
DTSTART:20240203T170000Z
DTEND:20240203T200000Z
END:VEVENT
END:VCALENDAR
