BEGIN:VCALENDAR
VERSION:2.0
PRODID:SchoolNow
CALSCALE:GREGORIAN
BEGIN:VEVENT
UID:be118518-f177-11f0-af92-0a58a9feac02
DTSTAMP:20260424T023009Z
SUMMARY:ELOP Saturday School
URL;VALUE=URI:https://www.lahabraschools.org/imperial/calendar/8836161/elop
 -saturday-school
DTSTART:20260207T160000Z
DTEND:20260208T000000Z
END:VEVENT
END:VCALENDAR
