BEGIN:VCALENDAR
VERSION:2.0
PRODID:SchoolNow
CALSCALE:GREGORIAN
BEGIN:VEVENT
UID:be1188d8-f177-11f0-b949-0a58a9feac02
DTSTAMP:20260424T023009Z
SUMMARY:Away Games vs Hillview
URL;VALUE=URI:https://www.lahabraschools.org/imperial/calendar/8836162/away
 -games-vs-hillview
DTSTART:20260129T233000Z
DTEND:20260130T003000Z
END:VEVENT
END:VCALENDAR
