BEGIN:VCALENDAR
VERSION:2.0
PRODID:SchoolNow
CALSCALE:GREGORIAN
BEGIN:VEVENT
UID:be118aa4-f177-11f0-9ab8-0a58a9feac02
DTSTAMP:20260424T023009Z
SUMMARY:Conference Week
URL;VALUE=URI:https://www.lahabraschools.org/imperial/calendar/8836163/conf
 erence-week
DTSTART;VALUE=DATE:20260202
DTEND;VALUE=DATE:20260206
END:VEVENT
END:VCALENDAR
