BEGIN:VCALENDAR
VERSION:2.0
PRODID:SchoolNow
CALSCALE:GREGORIAN
BEGIN:VEVENT
UID:be118be4-f177-11f0-965c-0a58a9feac02
DTSTAMP:20260424T023009Z
SUMMARY:Evening Conferences
URL;VALUE=URI:https://www.lahabraschools.org/imperial/calendar/8836164/even
 ing-conferences
DTSTART:20260206T010000Z
DTEND:20260206T030000Z
END:VEVENT
END:VCALENDAR
