BEGIN:VCALENDAR
VERSION:2.0
PRODID:SchoolNow
CALSCALE:GREGORIAN
BEGIN:VEVENT
UID:be118ce8-f177-11f0-8f41-0a58a9feac02
DTSTAMP:20260424T023009Z
SUMMARY:No School - MLK Jr
URL;VALUE=URI:https://www.lahabraschools.org/imperial/calendar/8836165/no-s
 chool-mlk-jr
DTSTART:20260119T160000Z
DTEND:20260119T230000Z
END:VEVENT
END:VCALENDAR
