BEGIN:VCALENDAR
VERSION:2.0
PRODID:SchoolNow
CALSCALE:GREGORIAN
BEGIN:VEVENT
UID:be11be02-f177-11f0-b7ee-0a58a9feac02
DTSTAMP:20260424T023009Z
SUMMARY:I-Ready Diagnostic 2
URL;VALUE=URI:https://www.lahabraschools.org/imperial/calendar/8836167/i-re
 ady-diagnostic-2
DTSTART;VALUE=DATE:20260112
DTEND;VALUE=DATE:20260117
END:VEVENT
END:VCALENDAR
