BEGIN:VCALENDAR
VERSION:2.0
PRODID:SchoolNow
CALSCALE:GREGORIAN
BEGIN:VEVENT
UID:be11d342-f177-11f0-a03c-0a58a9feac02
DTSTAMP:20260424T023009Z
SUMMARY:Board Meeting - IMS Presentation
URL;VALUE=URI:https://www.lahabraschools.org/imperial/calendar/8836168/boar
 d-meeting-ims-presentation
DTSTART:20260109T020000Z
DTEND:20260109T030000Z
END:VEVENT
END:VCALENDAR
