BEGIN:VCALENDAR
VERSION:2.0
PRODID:SchoolNow
CALSCALE:GREGORIAN
BEGIN:VEVENT
UID:be11d64e-f177-11f0-8669-0a58a9feac02
DTSTAMP:20260424T023009Z
SUMMARY:Sports @ Home vs Rancho
URL;VALUE=URI:https://www.lahabraschools.org/imperial/calendar/8836169/spor
 ts-home-vs-rancho
DTSTART:20260127T230000Z
DTEND:20260128T010000Z
END:VEVENT
END:VCALENDAR
