BEGIN:VCALENDAR
VERSION:2.0
PRODID:SchoolNow
CALSCALE:GREGORIAN
BEGIN:VEVENT
UID:be11d928-f177-11f0-b468-0a58a9feac02
DTSTAMP:20260424T023009Z
SUMMARY:ELPAC Speaking
URL;VALUE=URI:https://www.lahabraschools.org/imperial/calendar/8836170/elpa
 c-speaking
DTSTART;VALUE=DATE:20260205
DTEND;VALUE=DATE:20260207
END:VEVENT
END:VCALENDAR
