BEGIN:VCALENDAR
VERSION:2.0
PRODID:SchoolNow
CALSCALE:GREGORIAN
BEGIN:VEVENT
UID:be11e7e2-f177-11f0-a12a-0a58a9feac02
DTSTAMP:20260424T023009Z
SUMMARY:IMS Chipotle Fundraiser (25%)
URL;VALUE=URI:https://www.lahabraschools.org/imperial/calendar/8836173/ims-
 chipotle-fundraiser-25
DTSTART:20260114T000000Z
DTEND:20260114T040000Z
END:VEVENT
END:VCALENDAR
