BEGIN:VCALENDAR
VERSION:2.0
PRODID:SchoolNow
CALSCALE:GREGORIAN
BEGIN:VEVENT
UID:be11ef08-f177-11f0-8333-0a58a9feac02
DTSTAMP:20260424T023009Z
SUMMARY:Active Parenting (Teen Series)
LOCATION:401 Family Center
URL;VALUE=URI:https://www.lahabraschools.org/imperial/calendar/8836179/acti
 ve-parenting-teen-series
DTSTART:20260130T170000Z
DTEND:20260130T190000Z
END:VEVENT
END:VCALENDAR
