BEGIN:VCALENDAR
VERSION:2.0
PRODID:SchoolNow
CALSCALE:GREGORIAN
BEGIN:VEVENT
UID:be11f1ec-f177-11f0-9800-0a58a9feac02
DTSTAMP:20260424T023009Z
SUMMARY:Active Parenting (Teen Series)
LOCATION:401 Family Center
URL;VALUE=URI:https://www.lahabraschools.org/imperial/calendar/8836182/acti
 ve-parenting-teen-series
DTSTART:20260220T170000Z
DTEND:20260220T190000Z
END:VEVENT
END:VCALENDAR
