BEGIN:VCALENDAR
VERSION:2.0
PRODID:SchoolNow
CALSCALE:GREGORIAN
BEGIN:VEVENT
UID:1dde8fce-f80b-11f0-8546-0a58a9feac02
DTSTAMP:20260424T023009Z
SUMMARY:Kindness Week
URL;VALUE=URI:https://www.lahabraschools.org/imperial/calendar/8839622/kind
 ness-week
DTSTART;VALUE=DATE:20260126
DTEND;VALUE=DATE:20260131
END:VEVENT
END:VCALENDAR
