BEGIN:VCALENDAR
VERSION:2.0
PRODID:SchoolNow
CALSCALE:GREGORIAN
BEGIN:VEVENT
UID:1ddec1ce-f80b-11f0-8eef-0a58a9feac02
DTSTAMP:20260424T023009Z
SUMMARY:No School - Lincoln
URL;VALUE=URI:https://www.lahabraschools.org/imperial/calendar/8839623/no-s
 chool-lincoln
DTSTART;VALUE=DATE:20260209
DTEND;VALUE=DATE:20260210
END:VEVENT
END:VCALENDAR
