BEGIN:VCALENDAR
VERSION:2.0
PRODID:SchoolNow
CALSCALE:GREGORIAN
BEGIN:VEVENT
UID:1ddec610-f80b-11f0-8779-0a58a9feac02
DTSTAMP:20260424T023009Z
SUMMARY:No School - Washington
URL;VALUE=URI:https://www.lahabraschools.org/imperial/calendar/8839624/no-s
 chool-washington
DTSTART;VALUE=DATE:20260216
DTEND;VALUE=DATE:20260217
END:VEVENT
END:VCALENDAR
