BEGIN:VCALENDAR
VERSION:2.0
PRODID:SchoolNow
CALSCALE:GREGORIAN
BEGIN:VEVENT
UID:1ddecdd6-f80b-11f0-b729-0a58a9feac02
DTSTAMP:20260424T023009Z
SUMMARY:Check Out Candy PE
URL;VALUE=URI:https://www.lahabraschools.org/imperial/calendar/8839625/chec
 k-out-candy-pe
DTSTART;VALUE=DATE:20260126
DTEND;VALUE=DATE:20260127
END:VEVENT
END:VCALENDAR
