BEGIN:VCALENDAR
VERSION:2.0
PRODID:SchoolNow
CALSCALE:GREGORIAN
BEGIN:VEVENT
UID:723c7bee-fd6a-11f0-bfd6-0a58a9feac02
DTSTAMP:20260424T023009Z
SUMMARY:Parent Valentine's Day Workshop
LOCATION:IMS Family Center (401)
URL;VALUE=URI:https://www.lahabraschools.org/imperial/calendar/8846749/pare
 nt-valentines-day-workshop
DTSTART:20260210T163000Z
DTEND:20260210T180000Z
END:VEVENT
END:VCALENDAR
