BEGIN:VCALENDAR
VERSION:2.0
PRODID:SchoolNow
CALSCALE:GREGORIAN
BEGIN:VEVENT
UID:41207318-0133-11f1-88fa-0a58a9feac02
DTSTAMP:20260424T023009Z
SUMMARY:Home Sports vs WMS @ IMS
LOCATION:IMS Field
URL;VALUE=URI:https://www.lahabraschools.org/imperial/calendar/8848742/home
 -sports-vs-wms-ims
DTSTART:20260210T230000Z
DTEND:20260211T010000Z
END:VEVENT
END:VCALENDAR
