BEGIN:VCALENDAR
VERSION:2.0
PRODID:SchoolNow
CALSCALE:GREGORIAN
BEGIN:VEVENT
UID:41207a20-0133-11f1-bdd8-0a58a9feac02
DTSTAMP:20260424T023009Z
SUMMARY:D.C. Meeting
LOCATION:MPR
URL;VALUE=URI:https://www.lahabraschools.org/imperial/calendar/8848743/d-c-
 meeting
DTSTART:20260225T013000Z
DTEND:20260225T030000Z
END:VEVENT
END:VCALENDAR
