BEGIN:VCALENDAR
VERSION:2.0
PRODID:SchoolNow
CALSCALE:GREGORIAN
BEGIN:VEVENT
UID:41207ee4-0133-11f1-ad8d-0a58a9feac02
DTSTAMP:20260424T023009Z
SUMMARY:Away Games at Granada
URL;VALUE=URI:https://www.lahabraschools.org/imperial/calendar/8848744/away
 -games-at-granada
DTSTART:20260211T223000Z
DTEND:20260212T010000Z
END:VEVENT
END:VCALENDAR
