BEGIN:VCALENDAR
VERSION:2.0
PRODID:SchoolNow
CALSCALE:GREGORIAN
BEGIN:VEVENT
UID:41208bdc-0133-11f1-aa2c-0a58a9feac02
DTSTAMP:20260424T023009Z
SUMMARY:Above the Influence Vaping Presentation in PE
URL;VALUE=URI:https://www.lahabraschools.org/imperial/calendar/8848745/abov
 e-the-influence-vaping-presentation-in-pe
DTSTART:20260204T163000Z
DTEND:20260204T210000Z
END:VEVENT
END:VCALENDAR
