BEGIN:VCALENDAR
VERSION:2.0
PRODID:SchoolNow
CALSCALE:GREGORIAN
BEGIN:VEVENT
UID:3f0dbab2-0166-11f1-9093-0a58a9feac02
DTSTAMP:20260424T023009Z
SUMMARY:Internet Safety for Parents (WMS)
LOCATION:Washington Middle School\, 716 E La Habra Blvd\, La Habra\, CA 906
 31\, USA
URL;VALUE=URI:https://www.lahabraschools.org/imperial/calendar/8849063/inte
 rnet-safety-for-parents-wms
DTSTART:20260212T180000Z
DTEND:20260212T190000Z
END:VEVENT
END:VCALENDAR
