BEGIN:VCALENDAR
VERSION:2.0
PRODID:SchoolNow
CALSCALE:GREGORIAN
BEGIN:VEVENT
UID:373411a8-01ff-11f1-ab44-0a58a9feac02
DTSTAMP:20260424T023009Z
SUMMARY:Candy Money Due
URL;VALUE=URI:https://www.lahabraschools.org/imperial/calendar/8849497/cand
 y-money-due
DTSTART;VALUE=DATE:20260217
DTEND;VALUE=DATE:20260218
END:VEVENT
END:VCALENDAR
